BEGIN:VCALENDAR
VERSION:2.0
PRODID:-//Manchester Dioceses//Learning Platform//EN
BEGIN:VEVENT
UID:event-1@learning-platform
DTSTAMP:20260420T160952Z
DTSTART:20260423T183000Z
DTEND:20260423T204500Z
SUMMARY:Mission-Shaped Parish Conversation
DESCRIPTION:This in-person gathering offers practical diocesan learning shared reflection and next-step planning around Mission-Shaped Parish Conversation. It is designed to feel welcoming well-paced and directly relevant for teams engaging with learning and development across the diocese. The session will take place at St John’s House Bury.
LOCATION:St John’s House Bury
END:VEVENT
END:VCALENDAR
