BEGIN:VCALENDAR
VERSION:2.0
PRODID:-//Manchester Dioceses//Learning Platform//EN
BEGIN:VEVENT
UID:event-10@learning-platform
DTSTAMP:20260420T160952Z
DTSTART:20260511T100000Z
DTEND:20260511T143000Z
SUMMARY:Church Buildings Open Day
DESCRIPTION:This in-person gathering offers practical diocesan learning shared reflection and next-step planning around Church Buildings Open Day. It is designed to feel welcoming well-paced and directly relevant for teams engaging with learning and development across the diocese. The session will take place at St Paul’s Trafford.
LOCATION:St Paul’s Trafford
END:VEVENT
END:VCALENDAR
