BEGIN:VCALENDAR
VERSION:2.0
PRODID:-//Manchester Dioceses//Learning Platform//EN
BEGIN:VEVENT
UID:event-11@learning-platform
DTSTAMP:20260420T161048Z
DTSTART:20260513T093000Z
DTEND:20260513T113000Z
SUMMARY:Streaming for Conferences Masterclass
DESCRIPTION:This online session offers practical diocesan learning shared reflection and next-step planning around Streaming for Conferences Masterclass. It is designed to feel welcoming well-paced and directly relevant for teams engaging with learning and development across the diocese. The session will take place at Online via Teams.
LOCATION:Online via Teams
END:VEVENT
END:VCALENDAR
