BEGIN:VCALENDAR
VERSION:2.0
PRODID:-//Manchester Dioceses//Learning Platform//EN
BEGIN:VEVENT
UID:event-12@learning-platform
DTSTAMP:20260420T161048Z
DTSTART:20260515T133000Z
DTEND:20260515T160000Z
SUMMARY:Growing Younger Parish Cohort Session
DESCRIPTION:This in-person gathering offers practical diocesan learning shared reflection and next-step planning around Growing Younger Parish Cohort Session. It is designed to feel welcoming well-paced and directly relevant for teams engaging with learning and development across the diocese. The session will take place at St Philip’s Centre Bolton.
LOCATION:St Philip’s Centre Bolton
END:VEVENT
END:VCALENDAR
