BEGIN:VCALENDAR
VERSION:2.0
PRODID:-//Manchester Dioceses//Learning Platform//EN
BEGIN:VEVENT
UID:event-13@learning-platform
DTSTAMP:20260420T173111Z
DTSTART:20260517T180000Z
DTEND:20260517T194500Z
SUMMARY:Mission Planning with PCC Leaders
DESCRIPTION:This online session offers practical diocesan learning shared reflection and next-step planning around Mission Planning with PCC Leaders. It is designed to feel welcoming well-paced and directly relevant for teams engaging with learning and development across the diocese. The session will take place at Online via Zoom.
LOCATION:Online via Zoom
END:VEVENT
END:VCALENDAR
