BEGIN:VCALENDAR
VERSION:2.0
PRODID:-//Manchester Dioceses//Learning Platform//EN
BEGIN:VEVENT
UID:event-14@learning-platform
DTSTAMP:20260420T173424Z
DTSTART:20260519T103000Z
DTEND:20260519T120000Z
SUMMARY:Churchyard Biodiversity Walkthrough
DESCRIPTION:This in-person gathering offers practical diocesan learning shared reflection and next-step planning around Churchyard Biodiversity Walkthrough. It is designed to feel welcoming well-paced and directly relevant for teams engaging with learning and development across the diocese. The session will take place at St Mary’s Bury.
LOCATION:St Mary’s Bury
END:VEVENT
END:VCALENDAR
