BEGIN:VCALENDAR
VERSION:2.0
PRODID:-//Manchester Dioceses//Learning Platform//EN
BEGIN:VEVENT
UID:event-15@learning-platform
DTSTAMP:20260420T173338Z
DTSTART:20260521T120000Z
DTEND:20260521T140000Z
SUMMARY:New Clergy Welcome and Networks Lunch
DESCRIPTION:This in-person gathering offers practical diocesan learning shared reflection and next-step planning around New Clergy Welcome and Networks Lunch. It is designed to feel welcoming well-paced and directly relevant for teams engaging with learning and development across the diocese. The session will take place at Bishopscourt Manchester.
LOCATION:Bishopscourt Manchester
END:VEVENT
END:VCALENDAR
