BEGIN:VCALENDAR
VERSION:2.0
PRODID:-//Manchester Dioceses//Learning Platform//EN
BEGIN:VEVENT
UID:event-16@learning-platform
DTSTAMP:20260420T173116Z
DTSTART:20260523T160000Z
DTEND:20260523T170000Z
SUMMARY:School Worship Resource Launch
DESCRIPTION:This online session offers practical diocesan learning shared reflection and next-step planning around School Worship Resource Launch. It is designed to feel welcoming well-paced and directly relevant for teams engaging with learning and development across the diocese. The session will take place at Online via Teams.
LOCATION:Online via Teams
END:VEVENT
END:VCALENDAR
