BEGIN:VCALENDAR
VERSION:2.0
PRODID:-//Manchester Dioceses//Learning Platform//EN
BEGIN:VEVENT
UID:event-17@learning-platform
DTSTAMP:20260420T173301Z
DTSTART:20260525T110000Z
DTEND:20260525T130000Z
SUMMARY:Parish Communications Clinic
DESCRIPTION:This in-person gathering offers practical diocesan learning shared reflection and next-step planning around Parish Communications Clinic. It is designed to feel welcoming well-paced and directly relevant for teams engaging with learning and development across the diocese. The session will take place at Diocesan Offices Salford.
LOCATION:Diocesan Offices Salford
END:VEVENT
END:VCALENDAR
