BEGIN:VCALENDAR
VERSION:2.0
PRODID:-//Manchester Dioceses//Learning Platform//EN
BEGIN:VEVENT
UID:event-18@learning-platform
DTSTAMP:20260420T173249Z
DTSTART:20260527T140000Z
DTEND:20260527T170000Z
SUMMARY:Festival Planning for Christmas Services
DESCRIPTION:This in-person gathering offers practical diocesan learning shared reflection and next-step planning around Festival Planning for Christmas Services. It is designed to feel welcoming well-paced and directly relevant for teams engaging with learning and development across the diocese. The session will take place at Manchester Cathedral Conference Room.
LOCATION:Manchester Cathedral Conference Room
END:VEVENT
END:VCALENDAR
