BEGIN:VCALENDAR
VERSION:2.0
PRODID:-//Manchester Dioceses//Learning Platform//EN
BEGIN:VEVENT
UID:event-19@learning-platform
DTSTAMP:20260420T173123Z
DTSTART:20260529T190000Z
DTEND:20260529T201500Z
SUMMARY:Volunteer Team Leader Roundtable
DESCRIPTION:This online session offers practical diocesan learning shared reflection and next-step planning around Volunteer Team Leader Roundtable. It is designed to feel welcoming well-paced and directly relevant for teams engaging with learning and development across the diocese. The session will take place at Online via Zoom.
LOCATION:Online via Zoom
END:VEVENT
END:VCALENDAR
