BEGIN:VCALENDAR
VERSION:2.0
PRODID:-//Manchester Dioceses//Learning Platform//EN
BEGIN:VEVENT
UID:event-2@learning-platform
DTSTAMP:20260420T160829Z
DTSTART:20260425T100000Z
DTEND:20260425T120000Z
SUMMARY:Digital Ministry and Hybrid Worship Lab
DESCRIPTION:This online session offers practical diocesan learning shared reflection and next-step planning around Digital Ministry and Hybrid Worship Lab. It is designed to feel welcoming well-paced and directly relevant for teams engaging with learning and development across the diocese. The session will take place at Online via Microsoft Teams.
LOCATION:Online via Microsoft Teams
END:VEVENT
END:VCALENDAR
