BEGIN:VCALENDAR
VERSION:2.0
PRODID:-//Manchester Dioceses//Learning Platform//EN
BEGIN:VEVENT
UID:event-20@learning-platform
DTSTAMP:20260420T173256Z
DTSTART:20260531T093000Z
DTEND:20260531T110000Z
SUMMARY:Evaluation and Learning Metrics Briefing
DESCRIPTION:This in-person gathering offers practical diocesan learning shared reflection and next-step planning around Evaluation and Learning Metrics Briefing. It is designed to feel welcoming well-paced and directly relevant for teams engaging with learning and development across the diocese. The session will take place at St John’s House Bury.
LOCATION:St John’s House Bury
END:VEVENT
END:VCALENDAR
