BEGIN:VCALENDAR
VERSION:2.0
PRODID:-//Manchester Dioceses//Learning Platform//EN
BEGIN:VEVENT
UID:event-3@learning-platform
DTSTAMP:20260420T160828Z
DTSTART:20260427T093000Z
DTEND:20260427T150000Z
SUMMARY:Churchyard Stewardship Practical Day
DESCRIPTION:This in-person gathering offers practical diocesan learning shared reflection and next-step planning around Churchyard Stewardship Practical Day. It is designed to feel welcoming well-paced and directly relevant for teams engaging with learning and development across the diocese. The session will take place at St Mark’s Centre Rochdale.
LOCATION:St Mark’s Centre Rochdale
END:VEVENT
END:VCALENDAR
