BEGIN:VCALENDAR
VERSION:2.0
PRODID:-//Manchester Dioceses//Learning Platform//EN
BEGIN:VEVENT
UID:event-4@learning-platform
DTSTAMP:20260420T160901Z
DTSTART:20260429T160000Z
DTEND:20260429T173000Z
SUMMARY:School Governor Induction Live Session
DESCRIPTION:This online session offers practical diocesan learning shared reflection and next-step planning around School Governor Induction Live Session. It is designed to feel welcoming well-paced and directly relevant for teams engaging with learning and development across the diocese. The session will take place at Online via Zoom.
LOCATION:Online via Zoom
END:VEVENT
END:VCALENDAR
