BEGIN:VCALENDAR
VERSION:2.0
PRODID:-//Manchester Dioceses//Learning Platform//EN
BEGIN:VEVENT
UID:event-5@learning-platform
DTSTAMP:20260420T160921Z
DTSTART:20260501T140000Z
DTEND:20260501T163000Z
SUMMARY:Advent Worship Planning for Teams
DESCRIPTION:This in-person gathering offers practical diocesan learning shared reflection and next-step planning around Advent Worship Planning for Teams. It is designed to feel welcoming well-paced and directly relevant for teams engaging with learning and development across the diocese. The session will take place at Manchester Cathedral Conference Room.
LOCATION:Manchester Cathedral Conference Room
END:VEVENT
END:VCALENDAR
