BEGIN:VCALENDAR
VERSION:2.0
PRODID:-//Manchester Dioceses//Learning Platform//EN
BEGIN:VEVENT
UID:event-6@learning-platform
DTSTAMP:20260420T160957Z
DTSTART:20260503T190000Z
DTEND:20260503T210000Z
SUMMARY:Volunteer Welcome Workshop
DESCRIPTION:This in-person gathering offers practical diocesan learning shared reflection and next-step planning around Volunteer Welcome Workshop. It is designed to feel welcoming well-paced and directly relevant for teams engaging with learning and development across the diocese. The session will take place at St Anne’s Hall Oldham.
LOCATION:St Anne’s Hall Oldham
END:VEVENT
END:VCALENDAR
