BEGIN:VCALENDAR
VERSION:2.0
PRODID:-//Manchester Dioceses//Learning Platform//EN
BEGIN:VEVENT
UID:event-7@learning-platform
DTSTAMP:20260420T160901Z
DTSTART:20260505T190000Z
DTEND:20260505T203000Z
SUMMARY:Lay Ministry Discernment Evening
DESCRIPTION:This online session offers practical diocesan learning shared reflection and next-step planning around Lay Ministry Discernment Evening. It is designed to feel welcoming well-paced and directly relevant for teams engaging with learning and development across the diocese. The session will take place at Online via Teams.
LOCATION:Online via Teams
END:VEVENT
END:VCALENDAR
