BEGIN:VCALENDAR
VERSION:2.0
PRODID:-//Manchester Dioceses//Learning Platform//EN
BEGIN:VEVENT
UID:event-8@learning-platform
DTSTAMP:20260420T160958Z
DTSTART:20260507T153000Z
DTEND:20260507T170000Z
SUMMARY:Collective Worship Planning Forum
DESCRIPTION:This in-person gathering offers practical diocesan learning shared reflection and next-step planning around Collective Worship Planning Forum. It is designed to feel welcoming well-paced and directly relevant for teams engaging with learning and development across the diocese. The session will take place at Diocesan Education Centre Salford.
LOCATION:Diocesan Education Centre Salford
END:VEVENT
END:VCALENDAR
