BEGIN:VCALENDAR
VERSION:2.0
PRODID:-//Manchester Dioceses//Learning Platform//EN
BEGIN:VEVENT
UID:event-9@learning-platform
DTSTAMP:20260420T160921Z
DTSTART:20260509T123000Z
DTEND:20260509T140000Z
SUMMARY:Safeguarding Refresher for Parish Officers
DESCRIPTION:This online session offers practical diocesan learning shared reflection and next-step planning around Safeguarding Refresher for Parish Officers. It is designed to feel welcoming well-paced and directly relevant for teams engaging with learning and development across the diocese. The session will take place at Online via Zoom.
LOCATION:Online via Zoom
END:VEVENT
END:VCALENDAR
